BEGIN:VCALENDAR
VERSION:2.0
PRODID:icalendar-ruby
CALSCALE:GREGORIAN
METHOD:PUBLISH
BEGIN:VEVENT
DTSTAMP:20260425T002120Z
UID:132-460994@trilliumchurch.ca
DTSTART:20261028T170000Z
DTEND:20261028T174500Z
CLASS:PUBLIC
CREATED:20260424T183647
DESCRIPTION:
LAST-MODIFIED:20260424T183647
LOCATION:Trillium United Church
SUMMARY:CSC Wednesday Exercise Class
URL;VALUE=URI:https://trilliumchurch.ca/events/csc-wednesday-exercise-class
 --132/2026-10-28
ATTACH;FILENAME=CSC-Exercise-Wednesdays.png;FMTTYPE=image/png:https://dq5pw
 pg1q8ru0.cloudfront.net/2025/09/24/17/56/17/382d7b4a-2e37-4a12-85a6-28a30a
 985a36/CSC-Exercise-Wednesdays.png
END:VEVENT
END:VCALENDAR
